BEGIN:VCALENDAR
VERSION:2.0
PRODID:icalendar-ruby
CALSCALE:GREGORIAN
METHOD:PUBLISH
BEGIN:VEVENT
DTSTAMP:20260423T140114Z
UID:66-494652@ichog.com
DTSTART:20260426T183000Z
DTEND:20260426T200000Z
CLASS:PUBLIC
CREATED:20260406T213046
DESCRIPTION:3-Time Dove Award Winner\n2:30pm\nFREE
LAST-MODIFIED:20260406T213046
LOCATION:
SUMMARY:Doug Anderson in Concert
URL;VALUE=URI:https://www.ichog.com/events/doug-anderson-in-concert/2026-04
 -26
ATTACH;FILENAME=Doug-Anderson.jpg;FMTTYPE=image/jpeg:https://dq5pwpg1q8ru0.
 cloudfront.net/2026/04/07/01/30/04/b42e9b4d-ea38-4ef6-b663-801efe6e8eba/Do
 ug-Anderson.jpg
END:VEVENT
END:VCALENDAR
